BEGIN:VCALENDAR
VERSION:2.0
PRODID:icalendar-ruby
CALSCALE:GREGORIAN
METHOD:PUBLISH
BEGIN:VEVENT
DTSTAMP:20260425T031149Z
UID:5-886988@thegospelny.com
DTSTART:20261011T150000Z
DTEND:20261011T160000Z
CLASS:PUBLIC
CREATED:20260424T213945
DESCRIPTION:Sunday Worship
LAST-MODIFIED:20260424T213945
LOCATION:
SUMMARY:Sunday Worship
URL;VALUE=URI:https://thegospelny.com/events/sunday-worship/2026-10-11
END:VEVENT
END:VCALENDAR
